Workbook
Name ACEPTABLE: #REF!
Name AGENTE: #REF!
Name Asumir_Riesgo: #REF!
Name CLASES: #REF!
Name CONTROL: #REF!
Name DIRECCIONES1: #REF!
Name direcciones2: #REF!
Name FACTOR: #REF!
Name FUENTE: #REF!
Name GERENCIA: #REF!
Name GERENCIA1: #REF!
Name GERENCIAS: #REF!
Name NCONTROL: #REF!
Name NIVEL0: #REF!
Name Nivel1: #REF!
Name nivel2: #REF!
Name Nivel3: #REF!
Name Nivel4: #REF!
Name nIVEL5: #REF!
Name Nivel6: #REF!
Name NOMBRE: #REF!
Name NUMERO: #REF!
Name PESO: #REF!
Name Peso2: #REF!
Name PESOS: #REF!
Name PROCESO: #REF!
Name Riesgos: #REF!
Name rS: #REF!
Name tratamiento: #REF!
Name Valor1: #REF!
Name valor2: #REF!

Sheet Matriz de Riesgos
F1: IDENTIFICACIÓN VALORACIÓN Y TRATAMIENTO DE RIESGOS DE SEGURIDAD Y PRIVACIDAD DE LA INFORMACIÓN
F2: GESTIÓN TECNOLÓGICA
F3: UNIDAD NACIONAL DE PROTECCIÓN
A5: Proceso: | C5: GESTIÓN DE EVALUACIÓN DEL RIESGO
A6: Objetivo: | C6: Realizar las Evaluaciones de Riesgo tanto individual como colectivas a la Población Objeto del Programa de Prevención y Protección y el Programa Especial de Protección Integral para Dirigentes, Miembros y Sobrevivientes de la Unión Patriótica y el Partido Comunista Colombiano, liderados y coordinados por la Unidad Nacional de Protección – UN
A7: Alcance: | C7: Comprende la planificación, desarrollo, evaluación y mejoramiento continuo de las actividades definidas para coadyuvar a garantizar la vida, integridad, libertad y seguridad de las personas, grupos o comunidades, de acuerdo al nivel de riesgo que se presente mediante el análisis efectuado, en razón al ejercicio de un cargo público u otras actividades que pueden generar riesgo extraordinario o extremo.
A8: Identificación del riesgo | J8: Afectación del Riesgo (CID) | M8: Análisis del riesgo inherente | U8: Evaluación del riesgo - Valoración de los controles | AE8: Evaluación del riesgo - Nivel del riesgo residual | AM8: Plan de Acción de Tratamiento de Riesgos | AP8: Evaluación de eficacia de acciones (Primera - Tercera Línea de Defensa)
A9: Referencia | B9: Nombre del Proceso | C9: Dependencia | D9: Nombre de Activos Afectados (Activos Críticos) | E9: Amenazas | F9: Causas/Vulnerabilidades | G9: Consecuencias | H9: Impacto | I9: Descripción del riesgo | J9: Confidencialidad | K9: Integridad | L9: Disponibilidad | M9: Frecuencia con la cual se realiza la actividad | N9: Probabilidad Inherente | O9: % | P9: Criterios de impacto | Q9: Observación de criterio | R9: Impacto Inherente | S9: % | T9: Zona de Riesgo Inherente | U9: No. Control | V9: Descripción del Control | W9: Control Anexo A NTC-ISO-IEC 27001:2022 | X9: Afectación | Y9: Atributos | AE9: Probabilidad Residual | AF9: Probabilidad Residual Final | AG9: % | AH9: Impacto Residual Final | AI9: % | AJ9: Zona de Riesgo Final | AK9: Tratamiento | AL9: ¿Se prioriza Riesgo? | AM9: Plan de Acción | AN9: Responsable | AO9: Fecha Implementación | AP9: Actividades ejecutadas | AQ9: Actividades Programadas | AR9: Eficacia de Acciones | AS9: Evidencias / Soportes | AT9: Observaciones (Tercera Línea de Defensa)
Y10: Eficiencia | AB10: Informativos (Riesgos de Seguridad de la Información)
Y11: Tipo | Z11: Implementación | AA11: Calificación | AB11: Documentación | AC11: Frecuencia | AD11: Evidencia
B12: Gestión Evaluación del Riesgo | C12: SUBDIRECCIÓN DE EVALUACIÓN DEL RIESGO | D12: Plataforma - SER | E12: 3.10 Exposición de información confidencial y de uso interno por errores de configuración. 3.12 Denegación de servicios. 3.16 Uso no autorizado de la información 4.3 Ausencia o debilidades de mecanismos de identificación y autenticación de usuario. 4.32 Inadecuada protección de la información de registro. 4.5 Ausencia de un proceso formal para la revisión periódica de los permisos de acceso de los usuarios 4.7 Acceso a información confidencial y de uso interno desde componentes tecnológicos reciclados o desechados. | F12: 4.6 Notificación inoportuna de novedades de usuario a TI. 4.10 Uso de software desactualizado o con vulnerabilidades. 4.31 Falta de pruebas de verificación de las copias de respaldo. 5.1 Mantenimiento insuficiente o inoportuno de los componentes de hardware. 5.11 Uso inadecuado de los componentes tecnológicos (equipos de cómputo, dispositivos de red, servidores, etc.). | G12: Pérdida, afectación de la integridad, confidencialidad o disponibilidad de la información, debido a errores o fallas en el funcionamiento del sistema, | H12: Reputacional | I12: Posible afectación reputacional debido a la pérdida, alteración o vulneración de la integridad, confidencialidad o disponibilidad de la información, como consecuencia de errores o fallas en el software, lo que podría generar retrasos en la gestión del proceso. | J12: Alto | K12: Medio | L12: Medio | M12: 12000 | N12: =IF(M12<=0,"",IF(M12<=2,"Muy Baja",IF(M12<=24,"Baja",IF(M12<=500,"Media",IF(M12<=5000,"Alta","Muy Alta"))))) -> Muy Alta | O12: =IF(N12="","",IF(N12="Muy Baja",0.2,IF(N12="Baja",0.4,IF(N12="Media",0.6,IF(N12="Alta",0.8,IF(N12="Muy Alta",1,)))))) -> 1 | P12: El riesgo afecta la imagen de alguna área de la organización | Q12: =IF(NOT(ISERROR(MATCH(P12,'Tabla Impacto'!$B$221:$B$223,0))),'Tabla Impacto'!$F$223&"Por favor no seleccionar los criterios de impacto(Afectación Económica o presupuestal y Pérdida Reputacional)",P12) -> El riesgo afecta la imagen de alguna área de la organización | R12: =IF(OR(Q12='Tabla Impacto'!$C$11,Q12='Tabla Impacto'!$D$11),"Leve",IF(OR(Q12='Tabla Impacto'!$C$12,Q12='Tabla Impacto'!$D$12),"Menor",IF(OR(Q12='Tabla Impacto'!$C$13,Q12='Tabla Impacto'!$D$13),"Moderado",IF(OR(Q12='Tabla Impacto'!$C$14,Q12='Tabla Impacto'!$D$14),"Mayor",IF(OR(Q12='Tabla Impacto'!$C$15,Q12='Tabla Impacto'!$D$15),"Catastrófico",""))))) -> Leve | S12: =IF(R12="","",IF(R12="Leve",0.2,IF(R12="Menor",0.4,IF(R12="Moderado",0.6,IF(R12="Mayor",0.8,IF(R12="Catastrófico",1,)))))) -> 0.2 | T12: =IF(OR(AND(N12="Muy Baja",R12="Leve"),AND(N12="Muy Baja",R12="Menor"),AND(N12="Baja",R12="Leve")),"Bajo",IF(OR(AND(N12="Muy baja",R12="Moderado"),AND(N12="Baja",R12="Menor"),AND(N12="Baja",R12="Moderado"),AND(N12="Media",R12="Leve"),AND(N12="Media",R12="Menor"),AND(N12="Media",R12="Moderado"),AND(N12="Alta",R12="Leve"),AND(N12="Alta",R12="Menor")),"Moderado",IF(OR(AND(N12="Muy Baja",R12="Mayor"),AND(N12="Baja",R12="Mayor"),AND(N12="Media",R12="Mayor"),AND(N12="Alta",R12="Moderado"),AND(N12="Alta",R12="Mayor"),AND(N12="Muy Alta",R12="Leve"),AND(N12="Muy Alta",R12="Menor"),AND(N12="Muy Alta",R12="Moderado"),AND(N12="Muy Alta",R12="Mayor")),"Alto",IF(OR(AND(N12="Muy Baja",R12="Catastrófico"),AND(N12="Baja",R12="Catastrófico"),AND(N12="Media",R12="Catastrófico"),AND(N12="Alta",R12="Catastrófico"),AND(N12="Muy Alta",R12="Catastrófico")),"Extremo","")))) -> Alto | U12: 1 | V12: Los Servidores Públicos o contratistas que utilicen la plataforma SER deberán reportar en la mesa de servicio cualquier evento o incidente que afecte su funcionamiento, cuando sea necesario. Esta gestión queda evidenciada en los reportes generados por el Grupo de Tecnología, los cuales registran los soportes técnicos realizados a través de la mesa de servicio. (SOA 5.7, 6,8) Evidencia: Correo electrónico con los archivos adjuntos en formato Excel Periodicidad: Semestral o cuando se presente Ataca: 4.6, 4.10, 5.1 y 5.11 | X12: =IF(OR(Y12="Preventivo",Y12="Detectivo"),"Probabilidad",IF(Y12="Correctivo","Impacto","")) -> Probabilidad | Y12: Preventivo | Z12: Manual | AA12: =IF(AND(Y12="Preventivo",Z12="Automático"),"50%",IF(AND(Y12="Preventivo",Z12="Manual"),"40%",IF(AND(Y12="Detectivo",Z12="Automático"),"40%",IF(AND(Y12="Detectivo",Z12="Manual"),"30%",IF(AND(Y12="Correctivo",Z12="Automático"),"35%",IF(AND(Y12="Correctivo",Z12="Manual"),"25%","")))))) -> 40% | AB12: Sin Documentar | AC12: Continua | AD12: Sin Registro | AE12: =IFERROR(IF(X12="Probabilidad",(O12-(+O12*AA12)),IF(X12="Impacto",O12,"")),"") -> 0.6 | AF12: =IFERROR(IF(AE12="","",IF(AE12<=0.2,"Muy Baja",IF(AE12<=0.4,"Baja",IF(AE12<=0.6,"Media",IF(AE12<=0.8,"Alta","Muy Alta"))))),"") -> Media | AG12: =+AE12 -> 0.6 | AH12: =IFERROR(IF(AI12="","",IF(AI12<=0.2,"Leve",IF(AI12<=0.4,"Menor",IF(AI12<=0.6,"Moderado",IF(AI12<=0.8,"Mayor","Catastrófico"))))),"") -> Leve | AI12: =IFERROR(IF(X12="Impacto",(S12-(+S12*AA12)),IF(X12="Probabilidad",S12,"")),"") -> 0.2 | AJ12: =IFERROR(IF(OR(AND(AF12="Muy Baja",AH12="Leve"),AND(AF12="Muy Baja",AH12="Menor"),AND(AF12="Baja",AH12="Leve")),"Bajo",IF(OR(AND(AF12="Muy baja",AH12="Moderado"),AND(AF12="Baja",AH12="Menor"),AND(AF12="Baja",AH12="Moderado"),AND(AF12="Media",AH12="Leve"),AND(AF12="Media",AH12="Menor"),AND(AF12="Media",AH12="Moderado"),AND(AF12="Alta",AH12="Leve"),AND(AF12="Alta",AH12="Menor")),"Moderado",IF(OR(AND(AF12="Muy Baja",AH12="Mayor"),AND(AF12="Baja",AH12="Mayor"),AND(AF12="Media",AH12="Mayor"),AND(AF12="Alta",AH12="Moderado"),AND(AF12="Alta",AH12="Mayor"),AND(AF12="Muy Alta",AH12="Leve"),AND(AF12="Muy Alta",AH12="Menor"),AND(AF12="Muy Alta",AH12="Moderado"),AND(AF12="Muy Alta",AH12="Mayor")),"Alto",IF(OR(AND(AF12="Muy Baja",AH12="Catastrófico"),AND(AF12="Baja",AH12="Catastrófico"),AND(AF12="Media",AH12="Catastrófico"),AND(AF12="Alta",AH12="Catastrófico"),AND(AF12="Muy Alta",AH12="Catastrófico")),"Extremo","")))),"") -> Moderado | AK12: Aceptar | AL12: NO
Q13: =IF(NOT(ISERROR(MATCH(P13,_xlfn.ANCHORARRAY(E21),0))),O23&"Por favor no seleccionar los criterios de impacto",P13) -> 0 | U13: 2 | V13: El servidor público y/o contratista designado será responsable de otorgar el acceso a la plataforma, el cual deberá realizarse con los permisos estrictamente necesarios para el cumplimiento de sus funciones, garantizando el acceso autorizado y evitar el acceso no autorizado a la información. De este modo, se fortalece la seguridad y confidencialidad de la información de la Plataforma SER. (SOA 5.2, 5.15, 5.17, 6,6) Evidencia: Usuarios con los permisos asignados según el Rol Periodicidad: a demanda cuando se presente nuevos analistas Ataca: 4.6, 5.11 | X13: =IF(OR(Y13="Preventivo",Y13="Detectivo"),"Probabilidad",IF(Y13="Correctivo","Impacto","")) -> Probabilidad | Y13: Preventivo | Z13: Manual | AA13: =IF(AND(Y13="Preventivo",Z13="Automático"),"50%",IF(AND(Y13="Preventivo",Z13="Manual"),"40%",IF(AND(Y13="Detectivo",Z13="Automático"),"40%",IF(AND(Y13="Detectivo",Z13="Manual"),"30%",IF(AND(Y13="Correctivo",Z13="Automático"),"35%",IF(AND(Y13="Correctivo",Z13="Manual"),"25%","")))))) -> 40% | AB13: Sin Documentar | AC13: Continua | AD13: Sin Registro | AE13: =IFERROR(IF(AND(X12="Probabilidad",X13="Probabilidad"),(AG12-(+AG12*AA13)),IF(X13="Probabilidad",(O12-(+O12*AA13)),IF(X13="Impacto",AG12,""))),"") -> 0.36 | AF13: =IFERROR(IF(AE13="","",IF(AE13<=0.2,"Muy Baja",IF(AE13<=0.4,"Baja",IF(AE13<=0.6,"Media",IF(AE13<=0.8,"Alta","Muy Alta"))))),"") -> Baja | AG13: =+AE13 -> 0.36 | AH13: =IFERROR(IF(AI13="","",IF(AI13<=0.2,"Leve",IF(AI13<=0.4,"Menor",IF(AI13<=0.6,"Moderado",IF(AI13<=0.8,"Mayor","Catastrófico"))))),"") -> Leve | AI13: =IFERROR(IF(AND(X12="Impacto",X13="Impacto"),(AI12-(+AI12*AA13)),IF(X13="Impacto",(S12-(+S12*AA13)),IF(X13="Probabilidad",AI12,""))),"") -> 0.2 | AJ13: =IFERROR(IF(OR(AND(AF13="Muy Baja",AH13="Leve"),AND(AF13="Muy Baja",AH13="Menor"),AND(AF13="Baja",AH13="Leve")),"Bajo",IF(OR(AND(AF13="Muy baja",AH13="Moderado"),AND(AF13="Baja",AH13="Menor"),AND(AF13="Baja",AH13="Moderado"),AND(AF13="Media",AH13="Leve"),AND(AF13="Media",AH13="Menor"),AND(AF13="Media",AH13="Moderado"),AND(AF13="Alta",AH13="Leve"),AND(AF13="Alta",AH13="Menor")),"Moderado",IF(OR(AND(AF13="Muy Baja",AH13="Mayor"),AND(AF13="Baja",AH13="Mayor"),AND(AF13="Media",AH13="Mayor"),AND(AF13="Alta",AH13="Moderado"),AND(AF13="Alta",AH13="Mayor"),AND(AF13="Muy Alta",AH13="Leve"),AND(AF13="Muy Alta",AH13="Menor"),AND(AF13="Muy Alta",AH13="Moderado"),AND(AF13="Muy Alta",AH13="Mayor")),"Alto",IF(OR(AND(AF13="Muy Baja",AH13="Catastrófico"),AND(AF13="Baja",AH13="Catastrófico"),AND(AF13="Media",AH13="Catastrófico"),AND(AF13="Alta",AH13="Catastrófico"),AND(AF13="Muy Alta",AH13="Catastrófico")),"Extremo","")))),"") -> Bajo | AK13: Aceptar
Q14: =IF(NOT(ISERROR(MATCH(P14,_xlfn.ANCHORARRAY(E25),0))),O27&"Por favor no seleccionar los criterios de impacto",P14) -> 0 | U14: 3 | V14: El servidor público y/o contratista designado, solicitara a gestión tecnología por medio de mesa de servicios la realización de copias de segurida de la plataforma del SER. (SOA 8.13) Evidencia: solicitud a mesa de Servicios o reunión con responsable de Backup Periodicidad: Mensual Ataca: 4.31 | X14: =IF(OR(Y14="Preventivo",Y14="Detectivo"),"Probabilidad",IF(Y14="Correctivo","Impacto","")) -> Probabilidad | Y14: Preventivo | Z14: Manual | AA14: =IF(AND(Y14="Preventivo",Z14="Automático"),"50%",IF(AND(Y14="Preventivo",Z14="Manual"),"40%",IF(AND(Y14="Detectivo",Z14="Automático"),"40%",IF(AND(Y14="Detectivo",Z14="Manual"),"30%",IF(AND(Y14="Correctivo",Z14="Automático"),"35%",IF(AND(Y14="Correctivo",Z14="Manual"),"25%","")))))) -> 40% | AB14: Sin Documentar | AC14: Continua | AD14: Sin Registro | AE14: =IFERROR(IF(AND(X13="Probabilidad",X14="Probabilidad"),(AG13-(+AG13*AA14)),IF(X14="Probabilidad",(O13-(+O13*AA14)),IF(X14="Impacto",AG13,""))),"") -> 0.216 | AF14: =IFERROR(IF(AE14="","",IF(AE14<=0.2,"Muy Baja",IF(AE14<=0.4,"Baja",IF(AE14<=0.6,"Media",IF(AE14<=0.8,"Alta","Muy Alta"))))),"") -> Baja | AG14: =+AE14 -> 0.216 | AH14: =IFERROR(IF(AI14="","",IF(AI14<=0.2,"Leve",IF(AI14<=0.4,"Menor",IF(AI14<=0.6,"Moderado",IF(AI14<=0.8,"Mayor","Catastrófico"))))),"") -> Leve | AI14: =IFERROR(IF(AND(X13="Impacto",X14="Impacto"),(AI13-(+AI13*AA14)),IF(X14="Impacto",(S13-(+S13*AA14)),IF(X14="Probabilidad",AI13,""))),"") -> 0.2 | AJ14: =IFERROR(IF(OR(AND(AF14="Muy Baja",AH14="Leve"),AND(AF14="Muy Baja",AH14="Menor"),AND(AF14="Baja",AH14="Leve")),"Bajo",IF(OR(AND(AF14="Muy baja",AH14="Moderado"),AND(AF14="Baja",AH14="Menor"),AND(AF14="Baja",AH14="Moderado"),AND(AF14="Media",AH14="Leve"),AND(AF14="Media",AH14="Menor"),AND(AF14="Media",AH14="Moderado"),AND(AF14="Alta",AH14="Leve"),AND(AF14="Alta",AH14="Menor")),"Moderado",IF(OR(AND(AF14="Muy Baja",AH14="Mayor"),AND(AF14="Baja",AH14="Mayor"),AND(AF14="Media",AH14="Mayor"),AND(AF14="Alta",AH14="Moderado"),AND(AF14="Alta",AH14="Mayor"),AND(AF14="Muy Alta",AH14="Leve"),AND(AF14="Muy Alta",AH14="Menor"),AND(AF14="Muy Alta",AH14="Moderado"),AND(AF14="Muy Alta",AH14="Mayor")),"Alto",IF(OR(AND(AF14="Muy Baja",AH14="Catastrófico"),AND(AF14="Baja",AH14="Catastrófico"),AND(AF14="Media",AH14="Catastrófico"),AND(AF14="Alta",AH14="Catastrófico"),AND(AF14="Muy Alta",AH14="Catastrófico")),"Extremo","")))),"") -> Bajo | AK14: Aceptar
B15: Gestión Evaluación del Riesgo | C15: SUBDIRECCIÓN DE EVALUACIÓN DEL RIESGO | D15: Consolidado en excel de la SER | E15: 1.7 Entrega indebida de la información. 3.13 Alteración de la información | F15: 1.3 Desconocimiento de políticas, normas, o procedimientos de Seguridad de la Información. 1.5 Ausencia o carencia de conocimiento para el manejo de herramientas de seguridad informática. 1.6 Falta de conciencia en Seguridad de la Información. 1.9 Desconocimiento de los controles de seguridad informática aplicados a los activos de información que son de su responsabilidad. 1.11 Falta de conciencia en Protección de Datos Personales. | G15: La pérdida, de la confidencialidad, integridad y disponibilidad la información, debido a errores humanos por desconocimiento o no aplicación de políticas, normas, o procedimientos de Seguridad de la Información . | H15: Reputacional | I15: Posible afectación reputacional por pérdida, alteración o compromiso de la integridad y confidencialidad de la información, debido a errores humanos derivados del desconocimiento o la no aplicación de políticas, normas o procedimientos de Seguridad de la Información. | J15: Alto | K15: Medio | L15: Medio | M15: 293 | N15: =IF(M15<=0,"",IF(M15<=2,"Muy Baja",IF(M15<=24,"Baja",IF(M15<=500,"Media",IF(M15<=5000,"Alta","Muy Alta"))))) -> Media | O15: =IF(N15="","",IF(N15="Muy Baja",0.2,IF(N15="Baja",0.4,IF(N15="Media",0.6,IF(N15="Alta",0.8,IF(N15="Muy Alta",1,)))))) -> 0.6 | P15: El riesgo afecta la imagen de la entidad con algunos usuarios de relevancia frente al logro de los objetivos | Q15: =IF(NOT(ISERROR(MATCH(P15,'Tabla Impacto'!$B$221:$B$223,0))),'Tabla Impacto'!$F$223&"Por favor no seleccionar los criterios de impacto(Afectación Económica o presupuestal y Pérdida Reputacional)",P15) -> El riesgo afecta la imagen de la entidad con algunos usuarios de relevancia frente al logro de los objetivos | R15: =IF(OR(Q15='Tabla Impacto'!$C$11,Q15='Tabla Impacto'!$D$11),"Leve",IF(OR(Q15='Tabla Impacto'!$C$12,Q15='Tabla Impacto'!$D$12),"Menor",IF(OR(Q15='Tabla Impacto'!$C$13,Q15='Tabla Impacto'!$D$13),"Moderado",IF(OR(Q15='Tabla Impacto'!$C$14,Q15='Tabla Impacto'!$D$14),"Mayor",IF(OR(Q15='Tabla Impacto'!$C$15,Q15='Tabla Impacto'!$D$15),"Catastrófico",""))))) -> Moderado | S15: =IF(R15="","",IF(R15="Leve",0.2,IF(R15="Menor",0.4,IF(R15="Moderado",0.6,IF(R15="Mayor",0.8,IF(R15="Catastrófico",1,)))))) -> 0.6 | T15: =IF(OR(AND(N15="Muy Baja",R15="Leve"),AND(N15="Muy Baja",R15="Menor"),AND(N15="Baja",R15="Leve")),"Bajo",IF(OR(AND(N15="Muy baja",R15="Moderado"),AND(N15="Baja",R15="Menor"),AND(N15="Baja",R15="Moderado"),AND(N15="Media",R15="Leve"),AND(N15="Media",R15="Menor"),AND(N15="Media",R15="Moderado"),AND(N15="Alta",R15="Leve"),AND(N15="Alta",R15="Menor")),"Moderado",IF(OR(AND(N15="Muy Baja",R15="Mayor"),AND(N15="Baja",R15="Mayor"),AND(N15="Media",R15="Mayor"),AND(N15="Alta",R15="Moderado"),AND(N15="Alta",R15="Mayor"),AND(N15="Muy Alta",R15="Leve"),AND(N15="Muy Alta",R15="Menor"),AND(N15="Muy Alta",R15="Moderado"),AND(N15="Muy Alta",R15="Mayor")),"Alto",IF(OR(AND(N15="Muy Baja",R15="Catastrófico"),AND(N15="Baja",R15="Catastrófico"),AND(N15="Media",R15="Catastrófico"),AND(N15="Alta",R15="Catastrófico"),AND(N15="Muy Alta",R15="Catastrófico")),"Extremo","")))) -> Moderado | U15: 1 | V15: El Servidor Público o contratista designado por la Subdirección de Evaluación del Riesgo solicita a los coordinadores, grupos y equipos de trabajo el diligenciamiento y la actualización de los formatos GTE-FT-23 (Formato de Creación o Modificación de Usuario) y GTE-FT-34 (Formato de Acuerdo de Confidencialidad para Servidores Públicos, Contratistas y/o Terceros), cada vez que se vincule un nuevo integrante al equipo SER. (SOA, 5,15 6.2, 6.4, 6.5, 6.6, 6.7 y 6.8) Evidencia: Formatos diligenciados GTE-FT-23 y GTE-FT-34 de las personas que integran el equipo SER. Periodicidad: Anual o cuando se presente. Ataca la 1.9, 1.11 | X15: =IF(OR(Y15="Preventivo",Y15="Detectivo"),"Probabilidad",IF(Y15="Correctivo","Impacto","")) -> Probabilidad | Y15: Preventivo | Z15: Manual | AA15: =IF(AND(Y15="Preventivo",Z15="Automático"),"50%",IF(AND(Y15="Preventivo",Z15="Manual"),"40%",IF(AND(Y15="Detectivo",Z15="Automático"),"40%",IF(AND(Y15="Detectivo",Z15="Manual"),"30%",IF(AND(Y15="Correctivo",Z15="Automático"),"35%",IF(AND(Y15="Correctivo",Z15="Manual"),"25%","")))))) -> 40% | AB15: Sin Documentar | AC15: Aleatoria | AD15: Sin Registro | AE15: =IFERROR(IF(X15="Probabilidad",(O15-(+O15*AA15)),IF(X15="Impacto",O15,"")),"") -> 0.36 | AF15: =IFERROR(IF(AE15="","",IF(AE15<=0.2,"Muy Baja",IF(AE15<=0.4,"Baja",IF(AE15<=0.6,"Media",IF(AE15<=0.8,"Alta","Muy Alta"))))),"") -> Baja | AG15: =+AE15 -> 0.36 | AH15: =IFERROR(IF(AI15="","",IF(AI15<=0.2,"Leve",IF(AI15<=0.4,"Menor",IF(AI15<=0.6,"Moderado",IF(AI15<=0.8,"Mayor","Catastrófico"))))),"") -> Moderado | AI15: =IFERROR(IF(X15="Impacto",(S15-(+S15*AA15)),IF(X15="Probabilidad",S15,"")),"") -> 0.6 | AJ15: =IFERROR(IF(OR(AND(AF15="Muy Baja",AH15="Leve"),AND(AF15="Muy Baja",AH15="Menor"),AND(AF15="Baja",AH15="Leve")),"Bajo",IF(OR(AND(AF15="Muy baja",AH15="Moderado"),AND(AF15="Baja",AH15="Menor"),AND(AF15="Baja",AH15="Moderado"),AND(AF15="Media",AH15="Leve"),AND(AF15="Media",AH15="Menor"),AND(AF15="Media",AH15="Moderado"),AND(AF15="Alta",AH15="Leve"),AND(AF15="Alta",AH15="Menor")),"Moderado",IF(OR(AND(AF15="Muy Baja",AH15="Mayor"),AND(AF15="Baja",AH15="Mayor"),AND(AF15="Media",AH15="Mayor"),AND(AF15="Alta",AH15="Moderado"),AND(AF15="Alta",AH15="Mayor"),AND(AF15="Muy Alta",AH15="Leve"),AND(AF15="Muy Alta",AH15="Menor"),AND(AF15="Muy Alta",AH15="Moderado"),AND(AF15="Muy Alta",AH15="Mayor")),"Alto",IF(OR(AND(AF15="Muy Baja",AH15="Catastrófico"),AND(AF15="Baja",AH15="Catastrófico"),AND(AF15="Media",AH15="Catastrófico"),AND(AF15="Alta",AH15="Catastrófico"),AND(AF15="Muy Alta",AH15="Catastrófico")),"Extremo","")))),"") -> Moderado | AK15: Aceptar | AL15: NO
Q16: =IF(NOT(ISERROR(MATCH(P16,_xlfn.ANCHORARRAY(E27),0))),O29&"Por favor no seleccionar los criterios de impacto",P16) -> 0 | U16: 2 | V16: El Servidor Público o contratista designado por la Subdirección de Evaluación del Riesgo llevará a cabo actividades de sensibilización sobre las políticas de seguridad de la información de la Unidad Nacional de Protección (UNP), contenidas en el Manual de Políticas Específicas de Seguridad y Privacidad de la Información (GTE-MA-02). Estas actividades tienen como objetivo promover la adopción e interiorización de buenas prácticas en los servidores públicos y/o contratistas que participan en el proceso. (SOA 5,1 6.2, 6.4, 6.5, 6.6, 6.7 y 6.8) Evidencia: Actas de socialización Periodicidad: Anual Ataca la 1.3, 1.5, 1.6 | X16: =IF(OR(Y16="Preventivo",Y16="Detectivo"),"Probabilidad",IF(Y16="Correctivo","Impacto","")) -> Probabilidad | Y16: Preventivo | Z16: Manual | AA16: =IF(AND(Y16="Preventivo",Z16="Automático"),"50%",IF(AND(Y16="Preventivo",Z16="Manual"),"40%",IF(AND(Y16="Detectivo",Z16="Automático"),"40%",IF(AND(Y16="Detectivo",Z16="Manual"),"30%",IF(AND(Y16="Correctivo",Z16="Automático"),"35%",IF(AND(Y16="Correctivo",Z16="Manual"),"25%","")))))) -> 40% | AB16: Sin Documentar | AC16: Continua | AD16: Sin Registro | AE16: =IFERROR(IF(AND(X15="Probabilidad",X16="Probabilidad"),(AG15-(+AG15*AA16)),IF(AND(X15="Impacto",X16="Probabilidad"),(AG14-(+AG14*AA16)),IF(X16="Impacto",AG15,""))),"") -> 0.216 | AF16: =IFERROR(IF(AE16="","",IF(AE16<=0.2,"Muy Baja",IF(AE16<=0.4,"Baja",IF(AE16<=0.6,"Media",IF(AE16<=0.8,"Alta","Muy Alta"))))),"") -> Baja | AG16: =+AE16 -> 0.216 | AH16: =IFERROR(IF(AI16="","",IF(AI16<=0.2,"Leve",IF(AI16<=0.4,"Menor",IF(AI16<=0.6,"Moderado",IF(AI16<=0.8,"Mayor","Catastrófico"))))),"") -> Moderado | AI16: =IFERROR(IF(AND(X15="Impacto",X16="Impacto"),(AI15-(+AI15*AA16)),IF(AND(X15="Probabilidad",X16="Impacto"),(AI14-(+AI14*AA16)),IF(X16="Probabilidad",AI15,""))),"") -> 0.6 | AJ16: =IFERROR(IF(OR(AND(AF16="Muy Baja",AH16="Leve"),AND(AF16="Muy Baja",AH16="Menor"),AND(AF16="Baja",AH16="Leve")),"Bajo",IF(OR(AND(AF16="Muy baja",AH16="Moderado"),AND(AF16="Baja",AH16="Menor"),AND(AF16="Baja",AH16="Moderado"),AND(AF16="Media",AH16="Leve"),AND(AF16="Media",AH16="Menor"),AND(AF16="Media",AH16="Moderado"),AND(AF16="Alta",AH16="Leve"),AND(AF16="Alta",AH16="Menor")),"Moderado",IF(OR(AND(AF16="Muy Baja",AH16="Mayor"),AND(AF16="Baja",AH16="Mayor"),AND(AF16="Media",AH16="Mayor"),AND(AF16="Alta",AH16="Moderado"),AND(AF16="Alta",AH16="Mayor"),AND(AF16="Muy Alta",AH16="Leve"),AND(AF16="Muy Alta",AH16="Menor"),AND(AF16="Muy Alta",AH16="Moderado"),AND(AF16="Muy Alta",AH16="Mayor")),"Alto",IF(OR(AND(AF16="Muy Baja",AH16="Catastrófico"),AND(AF16="Baja",AH16="Catastrófico"),AND(AF16="Media",AH16="Catastrófico"),AND(AF16="Alta",AH16="Catastrófico"),AND(AF16="Muy Alta",AH16="Catastrófico")),"Extremo","")))),"") -> Moderado | AK16: Aceptar
Q17: =IF(NOT(ISERROR(MATCH(P17,_xlfn.ANCHORARRAY(E28),0))),O30&"Por favor no seleccionar los criterios de impacto",P17) -> 0 | AA17: =IF(AND(Y17="Preventivo",Z17="Automático"),"50%",IF(AND(Y17="Preventivo",Z17="Manual"),"40%",IF(AND(Y17="Detectivo",Z17="Automático"),"40%",IF(AND(Y17="Detectivo",Z17="Manual"),"30%",IF(AND(Y17="Correctivo",Z17="Automático"),"35%",IF(AND(Y17="Correctivo",Z17="Manual"),"25%","")))))) | AE17: =IFERROR(IF(AND(X16="Probabilidad",X17="Probabilidad"),(AG16-(+AG16*AA17)),IF(AND(X16="Impacto",X17="Probabilidad"),(AG15-(+AG15*AA17)),IF(X17="Impacto",AG16,""))),"") | AF17: =IFERROR(IF(AE17="","",IF(AE17<=0.2,"Muy Baja",IF(AE17<=0.4,"Baja",IF(AE17<=0.6,"Media",IF(AE17<=0.8,"Alta","Muy Alta"))))),"") | AG17: =+AE17 | AH17: =IFERROR(IF(AI17="","",IF(AI17<=0.2,"Leve",IF(AI17<=0.4,"Menor",IF(AI17<=0.6,"Moderado",IF(AI17<=0.8,"Mayor","Catastrófico"))))),"") | AI17: =IFERROR(IF(AND(X16="Impacto",X17="Impacto"),(AI16-(+AI16*AA17)),IF(AND(X16="Probabilidad",X17="Impacto"),(AI15-(+AI15*AA17)),IF(X17="Probabilidad",AI16,""))),"") | AJ17: =IFERROR(IF(OR(AND(AF17="Muy Baja",AH17="Leve"),AND(AF17="Muy Baja",AH17="Menor"),AND(AF17="Baja",AH17="Leve")),"Bajo",IF(OR(AND(AF17="Muy baja",AH17="Moderado"),AND(AF17="Baja",AH17="Menor"),AND(AF17="Baja",AH17="Moderado"),AND(AF17="Media",AH17="Leve"),AND(AF17="Media",AH17="Menor"),AND(AF17="Media",AH17="Moderado"),AND(AF17="Alta",AH17="Leve"),AND(AF17="Alta",AH17="Menor")),"Moderado",IF(OR(AND(AF17="Muy Baja",AH17="Mayor"),AND(AF17="Baja",AH17="Mayor"),AND(AF17="Media",AH17="Mayor"),AND(AF17="Alta",AH17="Moderado"),AND(AF17="Alta",AH17="Mayor"),AND(AF17="Muy Alta",AH17="Leve"),AND(AF17="Muy Alta",AH17="Menor"),AND(AF17="Muy Alta",AH17="Moderado"),AND(AF17="Muy Alta",AH17="Mayor")),"Alto",IF(OR(AND(AF17="Muy Baja",AH17="Catastrófico"),AND(AF17="Baja",AH17="Catastrófico"),AND(AF17="Media",AH17="Catastrófico"),AND(AF17="Alta",AH17="Catastrófico"),AND(AF17="Muy Alta",AH17="Catastrófico")),"Extremo","")))),"")
Q18: =IF(NOT(ISERROR(MATCH(P18,_xlfn.ANCHORARRAY(E29),0))),O31&"Por favor no seleccionar los criterios de impacto",P18) -> 0 | U18: 4 | X18: =IF(OR(Y18="Preventivo",Y18="Detectivo"),"Probabilidad",IF(Y18="Correctivo","Impacto","")) | AA18: =IF(AND(Y18="Preventivo",Z18="Automático"),"50%",IF(AND(Y18="Preventivo",Z18="Manual"),"40%",IF(AND(Y18="Detectivo",Z18="Automático"),"40%",IF(AND(Y18="Detectivo",Z18="Manual"),"30%",IF(AND(Y18="Correctivo",Z18="Automático"),"35%",IF(AND(Y18="Correctivo",Z18="Manual"),"25%","")))))) | AE18: =IFERROR(IF(AND(X17="Probabilidad",X18="Probabilidad"),(AG17-(+AG17*AA18)),IF(AND(X17="Impacto",X18="Probabilidad"),(AG16-(+AG16*AA18)),IF(X18="Impacto",AG17,""))),"") | AF18: =IFERROR(IF(AE18="","",IF(AE18<=0.2,"Muy Baja",IF(AE18<=0.4,"Baja",IF(AE18<=0.6,"Media",IF(AE18<=0.8,"Alta","Muy Alta"))))),"") | AG18: =+AE18 | AH18: =IFERROR(IF(AI18="","",IF(AI18<=0.2,"Leve",IF(AI18<=0.4,"Menor",IF(AI18<=0.6,"Moderado",IF(AI18<=0.8,"Mayor","Catastrófico"))))),"") | AI18: =IFERROR(IF(AND(X17="Impacto",X18="Impacto"),(AI17-(+AI17*AA18)),IF(AND(X17="Probabilidad",X18="Impacto"),(AI16-(+AI16*AA18)),IF(X18="Probabilidad",AI17,""))),"") | AJ18: =IFERROR(IF(OR(AND(AF18="Muy Baja",AH18="Leve"),AND(AF18="Muy Baja",AH18="Menor"),AND(AF18="Baja",AH18="Leve")),"Bajo",IF(OR(AND(AF18="Muy baja",AH18="Moderado"),AND(AF18="Baja",AH18="Menor"),AND(AF18="Baja",AH18="Moderado"),AND(AF18="Media",AH18="Leve"),AND(AF18="Media",AH18="Menor"),AND(AF18="Media",AH18="Moderado"),AND(AF18="Alta",AH18="Leve"),AND(AF18="Alta",AH18="Menor")),"Moderado",IF(OR(AND(AF18="Muy Baja",AH18="Mayor"),AND(AF18="Baja",AH18="Mayor"),AND(AF18="Media",AH18="Mayor"),AND(AF18="Alta",AH18="Moderado"),AND(AF18="Alta",AH18="Mayor"),AND(AF18="Muy Alta",AH18="Leve"),AND(AF18="Muy Alta",AH18="Menor"),AND(AF18="Muy Alta",AH18="Moderado"),AND(AF18="Muy Alta",AH18="Mayor")),"Alto",IF(OR(AND(AF18="Muy Baja",AH18="Catastrófico"),AND(AF18="Baja",AH18="Catastrófico"),AND(AF18="Media",AH18="Catastrófico"),AND(AF18="Alta",AH18="Catastrófico"),AND(AF18="Muy Alta",AH18="Catastrófico")),"Extremo","")))),"")
Q19: =IF(NOT(ISERROR(MATCH(P19,_xlfn.ANCHORARRAY(E30),0))),O32&"Por favor no seleccionar los criterios de impacto",P19) -> 0 | U19: 5 | X19: =IF(OR(Y19="Preventivo",Y19="Detectivo"),"Probabilidad",IF(Y19="Correctivo","Impacto","")) | AA19: =IF(AND(Y19="Preventivo",Z19="Automático"),"50%",IF(AND(Y19="Preventivo",Z19="Manual"),"40%",IF(AND(Y19="Detectivo",Z19="Automático"),"40%",IF(AND(Y19="Detectivo",Z19="Manual"),"30%",IF(AND(Y19="Correctivo",Z19="Automático"),"35%",IF(AND(Y19="Correctivo",Z19="Manual"),"25%","")))))) | AE19: =IFERROR(IF(AND(X18="Probabilidad",X19="Probabilidad"),(AG18-(+AG18*AA19)),IF(AND(X18="Impacto",X19="Probabilidad"),(AG17-(+AG17*AA19)),IF(X19="Impacto",AG18,""))),"") | AF19: =IFERROR(IF(AE19="","",IF(AE19<=0.2,"Muy Baja",IF(AE19<=0.4,"Baja",IF(AE19<=0.6,"Media",IF(AE19<=0.8,"Alta","Muy Alta"))))),"") | AG19: =+AE19 | AH19: =IFERROR(IF(AI19="","",IF(AI19<=0.2,"Leve",IF(AI19<=0.4,"Menor",IF(AI19<=0.6,"Moderado",IF(AI19<=0.8,"Mayor","Catastrófico"))))),"") | AI19: =IFERROR(IF(AND(X18="Impacto",X19="Impacto"),(AI18-(+AI18*AA19)),IF(AND(X18="Probabilidad",X19="Impacto"),(AI17-(+AI17*AA19)),IF(X19="Probabilidad",AI18,""))),"") | AJ19: =IFERROR(IF(OR(AND(AF19="Muy Baja",AH19="Leve"),AND(AF19="Muy Baja",AH19="Menor"),AND(AF19="Baja",AH19="Leve")),"Bajo",IF(OR(AND(AF19="Muy baja",AH19="Moderado"),AND(AF19="Baja",AH19="Menor"),AND(AF19="Baja",AH19="Moderado"),AND(AF19="Media",AH19="Leve"),AND(AF19="Media",AH19="Menor"),AND(AF19="Media",AH19="Moderado"),AND(AF19="Alta",AH19="Leve"),AND(AF19="Alta",AH19="Menor")),"Moderado",IF(OR(AND(AF19="Muy Baja",AH19="Mayor"),AND(AF19="Baja",AH19="Mayor"),AND(AF19="Media",AH19="Mayor"),AND(AF19="Alta",AH19="Moderado"),AND(AF19="Alta",AH19="Mayor"),AND(AF19="Muy Alta",AH19="Leve"),AND(AF19="Muy Alta",AH19="Menor"),AND(AF19="Muy Alta",AH19="Moderado"),AND(AF19="Muy Alta",AH19="Mayor")),"Alto",IF(OR(AND(AF19="Muy Baja",AH19="Catastrófico"),AND(AF19="Baja",AH19="Catastrófico"),AND(AF19="Media",AH19="Catastrófico"),AND(AF19="Alta",AH19="Catastrófico"),AND(AF19="Muy Alta",AH19="Catastrófico")),"Extremo","")))),"")
Q20: =IF(NOT(ISERROR(MATCH(P20,_xlfn.ANCHORARRAY(E31),0))),O33&"Por favor no seleccionar los criterios de impacto",P20) -> 0 | U20: 6 | X20: =IF(OR(Y20="Preventivo",Y20="Detectivo"),"Probabilidad",IF(Y20="Correctivo","Impacto","")) | AA20: =IF(AND(Y20="Preventivo",Z20="Automático"),"50%",IF(AND(Y20="Preventivo",Z20="Manual"),"40%",IF(AND(Y20="Detectivo",Z20="Automático"),"40%",IF(AND(Y20="Detectivo",Z20="Manual"),"30%",IF(AND(Y20="Correctivo",Z20="Automático"),"35%",IF(AND(Y20="Correctivo",Z20="Manual"),"25%","")))))) | AE20: =IFERROR(IF(AND(X19="Probabilidad",X20="Probabilidad"),(AG19-(+AG19*AA20)),IF(AND(X19="Impacto",X20="Probabilidad"),(AG18-(+AG18*AA20)),IF(X20="Impacto",AG19,""))),"") | AF20: =IFERROR(IF(AE20="","",IF(AE20<=0.2,"Muy Baja",IF(AE20<=0.4,"Baja",IF(AE20<=0.6,"Media",IF(AE20<=0.8,"Alta","Muy Alta"))))),"") | AG20: =+AE20 | AH20: =IFERROR(IF(AI20="","",IF(AI20<=0.2,"Leve",IF(AI20<=0.4,"Menor",IF(AI20<=0.6,"Moderado",IF(AI20<=0.8,"Mayor","Catastrófico"))))),"") | AI20: =IFERROR(IF(AND(X19="Impacto",X20="Impacto"),(AI19-(+AI19*AA20)),IF(AND(X19="Probabilidad",X20="Impacto"),(AI18-(+AI18*AA20)),IF(X20="Probabilidad",AI19,""))),"") | AJ20: =IFERROR(IF(OR(AND(AF20="Muy Baja",AH20="Leve"),AND(AF20="Muy Baja",AH20="Menor"),AND(AF20="Baja",AH20="Leve")),"Bajo",IF(OR(AND(AF20="Muy baja",AH20="Moderado"),AND(AF20="Baja",AH20="Menor"),AND(AF20="Baja",AH20="Moderado"),AND(AF20="Media",AH20="Leve"),AND(AF20="Media",AH20="Menor"),AND(AF20="Media",AH20="Moderado"),AND(AF20="Alta",AH20="Leve"),AND(AF20="Alta",AH20="Menor")),"Moderado",IF(OR(AND(AF20="Muy Baja",AH20="Mayor"),AND(AF20="Baja",AH20="Mayor"),AND(AF20="Media",AH20="Mayor"),AND(AF20="Alta",AH20="Moderado"),AND(AF20="Alta",AH20="Mayor"),AND(AF20="Muy Alta",AH20="Leve"),AND(AF20="Muy Alta",AH20="Menor"),AND(AF20="Muy Alta",AH20="Moderado"),AND(AF20="Muy Alta",AH20="Mayor")),"Alto",IF(OR(AND(AF20="Muy Baja",AH20="Catastrófico"),AND(AF20="Baja",AH20="Catastrófico"),AND(AF20="Media",AH20="Catastrófico"),AND(AF20="Alta",AH20="Catastrófico"),AND(AF20="Muy Alta",AH20="Catastrófico")),"Extremo","")))),"")
B21: Gestión Evaluación del Riesgo | C21: SUBDIRECCIÓN DE EVALUACIÓN DEL RIESGO | D21: Actas | E21: 1.4. Sabotaje 1.5. Errores humanos en el cumplimiento de las labores 3.13 Alteración de la información 2.15 Uso indebido de la información 2.2. Niveles de temperatura o humedad por fuera de los rangos aceptables. 2.10. Incendio 2.11 Inundación 4.5. Hurto de equipos, medios magnéticos o documentos | F21: 4.2 Asignación errada de privilegios o derechos de acceso. 4.4 Inadecuada segregación de funciones, roles y perfiles de usuario. 3.9 Almacenamiento de documentos impresos sin medidas de protección. 2.3 Ausencia de procedimientos para la clasificación, etiquetado y manejo de la información. | G21: Pérdida de la confidencialidad e integridad de la información debido a la divulgación no autorizada de datos sensibles o confidenciales | H21: Reputacional | I21: Posible afectación reputacional debido a la pérdida de integridad y confidencialidad de la información como consecuencia de la divulgación no autorizada de datos sensibles o confidenciales. Esta situación podría derivar en investigaciones y sanciones, y puede ser causada tanto por errores humanos relacionados con el desconocimiento o la no aplicación de políticas, normas o procedimientos de seguridad de la información, como por fallas en el funcionamiento del sistema que comprometan la seguridad de los datos. | J21: Alto | K21: Medio | L21: Medio | M21: 192 | N21: =IF(M21<=0,"",IF(M21<=2,"Muy Baja",IF(M21<=24,"Baja",IF(M21<=500,"Media",IF(M21<=5000,"Alta","Muy Alta"))))) -> Media | O21: =IF(N21="","",IF(N21="Muy Baja",0.2,IF(N21="Baja",0.4,IF(N21="Media",0.6,IF(N21="Alta",0.8,IF(N21="Muy Alta",1,)))))) -> 0.6 | P21: El riesgo afecta la imagen de la entidad con algunos usuarios de relevancia frente al logro de los objetivos | Q21: =IF(NOT(ISERROR(MATCH(P21,'Tabla Impacto'!$B$221:$B$223,0))),'Tabla Impacto'!$F$223&"Por favor no seleccionar los criterios de impacto(Afectación Económica o presupuestal y Pérdida Reputacional)",P21) -> El riesgo afecta la imagen de la entidad con algunos usuarios de relevancia frente al logro de los objetivos | R21: =IF(OR(Q21='Tabla Impacto'!$C$11,Q21='Tabla Impacto'!$D$11),"Leve",IF(OR(Q21='Tabla Impacto'!$C$12,Q21='Tabla Impacto'!$D$12),"Menor",IF(OR(Q21='Tabla Impacto'!$C$13,Q21='Tabla Impacto'!$D$13),"Moderado",IF(OR(Q21='Tabla Impacto'!$C$14,Q21='Tabla Impacto'!$D$14),"Mayor",IF(OR(Q21='Tabla Impacto'!$C$15,Q21='Tabla Impacto'!$D$15),"Catastrófico",""))))) -> Moderado | S21: =IF(R21="","",IF(R21="Leve",0.2,IF(R21="Menor",0.4,IF(R21="Moderado",0.6,IF(R21="Mayor",0.8,IF(R21="Catastrófico",1,)))))) -> 0.6 | T21: =IF(OR(AND(N21="Muy Baja",R21="Leve"),AND(N21="Muy Baja",R21="Menor"),AND(N21="Baja",R21="Leve")),"Bajo",IF(OR(AND(N21="Muy baja",R21="Moderado"),AND(N21="Baja",R21="Menor"),AND(N21="Baja",R21="Moderado"),AND(N21="Media",R21="Leve"),AND(N21="Media",R21="Menor"),AND(N21="Media",R21="Moderado"),AND(N21="Alta",R21="Leve"),AND(N21="Alta",R21="Menor")),"Moderado",IF(OR(AND(N21="Muy Baja",R21="Mayor"),AND(N21="Baja",R21="Mayor"),AND(N21="Media",R21="Mayor"),AND(N21="Alta",R21="Moderado"),AND(N21="Alta",R21="Mayor"),AND(N21="Muy Alta",R21="Leve"),AND(N21="Muy Alta",R21="Menor"),AND(N21="Muy Alta",R21="Moderado"),AND(N21="Muy Alta",R21="Mayor")),"Alto",IF(OR(AND(N21="Muy Baja",R21="Catastrófico"),AND(N21="Baja",R21="Catastrófico"),AND(N21="Media",R21="Catastrófico"),AND(N21="Alta",R21="Catastrófico"),AND(N21="Muy Alta",R21="Catastrófico")),"Extremo","")))) -> Moderado | U21: 1 | V21: El Servidor Público o contratista delegado ante la Secretaría Técnica del CERREM deberá solicitar al Grupo de Gestión de Tecnologías el control de acceso y la restricción a la información y demás activos asociados, de acuerdo con la política establecida sobre control de acceso, relacionada con las actas del CERREM. (SOA 8.2, 8.3 y 8,13) Evidencia: Comunicación oficial y/o correo electrónico. Peridicidad: Cuando se presente Ataca: 4.2, 4.4, 2.3 | X21: =IF(OR(Y21="Preventivo",Y21="Detectivo"),"Probabilidad",IF(Y21="Correctivo","Impacto","")) -> Probabilidad | Y21: Preventivo | Z21: Manual | AA21: =IF(AND(Y21="Preventivo",Z21="Automático"),"50%",IF(AND(Y21="Preventivo",Z21="Manual"),"40%",IF(AND(Y21="Detectivo",Z21="Automático"),"40%",IF(AND(Y21="Detectivo",Z21="Manual"),"30%",IF(AND(Y21="Correctivo",Z21="Automático"),"35%",IF(AND(Y21="Correctivo",Z21="Manual"),"25%","")))))) -> 40% | AB21: Sin Documentar | AC21: Aleatoria | AD21: Sin Registro | AE21: =IFERROR(IF(X21="Probabilidad",(O21-(+O21*AA21)),IF(X21="Impacto",O21,"")),"") -> 0.36 | AF21: =IFERROR(IF(AE21="","",IF(AE21<=0.2,"Muy Baja",IF(AE21<=0.4,"Baja",IF(AE21<=0.6,"Media",IF(AE21<=0.8,"Alta","Muy Alta"))))),"") -> Baja | AG21: =+AE21 -> 0.36 | AH21: =IFERROR(IF(AI21="","",IF(AI21<=0.2,"Leve",IF(AI21<=0.4,"Menor",IF(AI21<=0.6,"Moderado",IF(AI21<=0.8,"Mayor","Catastrófico"))))),"") -> Moderado | AI21: =IFERROR(IF(X21="Impacto",(S21-(+S21*AA21)),IF(X21="Probabilidad",S21,"")),"") -> 0.6 | AJ21: =IFERROR(IF(OR(AND(AF21="Muy Baja",AH21="Leve"),AND(AF21="Muy Baja",AH21="Menor"),AND(AF21="Baja",AH21="Leve")),"Bajo",IF(OR(AND(AF21="Muy baja",AH21="Moderado"),AND(AF21="Baja",AH21="Menor"),AND(AF21="Baja",AH21="Moderado"),AND(AF21="Media",AH21="Leve"),AND(AF21="Media",AH21="Menor"),AND(AF21="Media",AH21="Moderado"),AND(AF21="Alta",AH21="Leve"),AND(AF21="Alta",AH21="Menor")),"Moderado",IF(OR(AND(AF21="Muy Baja",AH21="Mayor"),AND(AF21="Baja",AH21="Mayor"),AND(AF21="Media",AH21="Mayor"),AND(AF21="Alta",AH21="Moderado"),AND(AF21="Alta",AH21="Mayor"),AND(AF21="Muy Alta",AH21="Leve"),AND(AF21="Muy Alta",AH21="Menor"),AND(AF21="Muy Alta",AH21="Moderado"),AND(AF21="Muy Alta",AH21="Mayor")),"Alto",IF(OR(AND(AF21="Muy Baja",AH21="Catastrófico"),AND(AF21="Baja",AH21="Catastrófico"),AND(AF21="Media",AH21="Catastrófico"),AND(AF21="Alta",AH21="Catastrófico"),AND(AF21="Muy Alta",AH21="Catastrófico")),"Extremo","")))),"") -> Moderado | AK21: Aceptar | AL21: NO
Q22: =IF(NOT(ISERROR(MATCH(P22,_xlfn.ANCHORARRAY(E33),0))),O35&"Por favor no seleccionar los criterios de impacto",P22) -> 0 | U22: 2 | V22: El Servidor Público contratista de la Secretaría Técnica del CERREM en cada sesión hara la lectura de la reserva de la información ante los delegados y demás asistentes, asi mismo enviará reportes en los meses de agosto y diciembre, donde se informe la cantidad de sesiones realizadas en la cual se realizó la lectura de la reserva de la información. (SOA 6.2, 6.4, 6.5, 6.6, 6.7 y 6.8) Evidencia: Reportes de la lectura de la reserva de la información. Periodicidad: Semestral o cuando aplique Ataca: 3.9 | X22: =IF(OR(Y22="Preventivo",Y22="Detectivo"),"Probabilidad",IF(Y22="Correctivo","Impacto","")) -> Probabilidad | Y22: Preventivo | Z22: Manual | AA22: =IF(AND(Y22="Preventivo",Z22="Automático"),"50%",IF(AND(Y22="Preventivo",Z22="Manual"),"40%",IF(AND(Y22="Detectivo",Z22="Automático"),"40%",IF(AND(Y22="Detectivo",Z22="Manual"),"30%",IF(AND(Y22="Correctivo",Z22="Automático"),"35%",IF(AND(Y22="Correctivo",Z22="Manual"),"25%","")))))) -> 40% | AB22: Sin Documentar | AC22: Aleatoria | AD22: Sin Registro | AE22: =IFERROR(IF(AND(X21="Probabilidad",X22="Probabilidad"),(AG21-(+AG21*AA22)),IF(X22="Probabilidad",(O21-(+O21*AA22)),IF(X22="Impacto",AG21,""))),"") -> 0.216 | AF22: =IFERROR(IF(AE22="","",IF(AE22<=0.2,"Muy Baja",IF(AE22<=0.4,"Baja",IF(AE22<=0.6,"Media",IF(AE22<=0.8,"Alta","Muy Alta"))))),"") -> Baja | AG22: =+AE22 -> 0.216 | AH22: =IFERROR(IF(AI22="","",IF(AI22<=0.2,"Leve",IF(AI22<=0.4,"Menor",IF(AI22<=0.6,"Moderado",IF(AI22<=0.8,"Mayor","Catastrófico"))))),"") -> Moderado | AI22: =IFERROR(IF(AND(X21="Impacto",X22="Impacto"),(AI21-(+AI21*AA22)),IF(X22="Impacto",(S21-(+S21*AA22)),IF(X22="Probabilidad",AI21,""))),"") -> 0.6 | AJ22: =IFERROR(IF(OR(AND(AF22="Muy Baja",AH22="Leve"),AND(AF22="Muy Baja",AH22="Menor"),AND(AF22="Baja",AH22="Leve")),"Bajo",IF(OR(AND(AF22="Muy baja",AH22="Moderado"),AND(AF22="Baja",AH22="Menor"),AND(AF22="Baja",AH22="Moderado"),AND(AF22="Media",AH22="Leve"),AND(AF22="Media",AH22="Menor"),AND(AF22="Media",AH22="Moderado"),AND(AF22="Alta",AH22="Leve"),AND(AF22="Alta",AH22="Menor")),"Moderado",IF(OR(AND(AF22="Muy Baja",AH22="Mayor"),AND(AF22="Baja",AH22="Mayor"),AND(AF22="Media",AH22="Mayor"),AND(AF22="Alta",AH22="Moderado"),AND(AF22="Alta",AH22="Mayor"),AND(AF22="Muy Alta",AH22="Leve"),AND(AF22="Muy Alta",AH22="Menor"),AND(AF22="Muy Alta",AH22="Moderado"),AND(AF22="Muy Alta",AH22="Mayor")),"Alto",IF(OR(AND(AF22="Muy Baja",AH22="Catastrófico"),AND(AF22="Baja",AH22="Catastrófico"),AND(AF22="Media",AH22="Catastrófico"),AND(AF22="Alta",AH22="Catastrófico"),AND(AF22="Muy Alta",AH22="Catastrófico")),"Extremo","")))),"") -> Moderado | AK22: Aceptar
Q23: =IF(NOT(ISERROR(MATCH(P23,_xlfn.ANCHORARRAY(E34),0))),O36&"Por favor no seleccionar los criterios de impacto",P23) -> 0 | U23: 3 | X23: =IF(OR(Y23="Preventivo",Y23="Detectivo"),"Probabilidad",IF(Y23="Correctivo","Impacto","")) | Z23: Manual | AA23: =IF(AND(Y23="Preventivo",Z23="Automático"),"50%",IF(AND(Y23="Preventivo",Z23="Manual"),"40%",IF(AND(Y23="Detectivo",Z23="Automático"),"40%",IF(AND(Y23="Detectivo",Z23="Manual"),"30%",IF(AND(Y23="Correctivo",Z23="Automático"),"35%",IF(AND(Y23="Correctivo",Z23="Manual"),"25%","")))))) | AE23: =IFERROR(IF(AND(X22="Probabilidad",X23="Probabilidad"),(AG22-(+AG22*AA23)),IF(AND(X22="Impacto",X23="Probabilidad"),(AG21-(+AG21*AA23)),IF(X23="Impacto",AG22,""))),"") | AF23: =IFERROR(IF(AE23="","",IF(AE23<=0.2,"Muy Baja",IF(AE23<=0.4,"Baja",IF(AE23<=0.6,"Media",IF(AE23<=0.8,"Alta","Muy Alta"))))),"") | AG23: =+AE23 | AH23: =IFERROR(IF(AI23="","",IF(AI23<=0.2,"Leve",IF(AI23<=0.4,"Menor",IF(AI23<=0.6,"Moderado",IF(AI23<=0.8,"Mayor","Catastrófico"))))),"") | AI23: =IFERROR(IF(AND(X22="Impacto",X23="Impacto"),(AI22-(+AI22*AA23)),IF(AND(X22="Probabilidad",X23="Impacto"),(AI21-(+AI21*AA23)),IF(X23="Probabilidad",AI22,""))),"") | AJ23: =IFERROR(IF(OR(AND(AF23="Muy Baja",AH23="Leve"),AND(AF23="Muy Baja",AH23="Menor"),AND(AF23="Baja",AH23="Leve")),"Bajo",IF(OR(AND(AF23="Muy baja",AH23="Moderado"),AND(AF23="Baja",AH23="Menor"),AND(AF23="Baja",AH23="Moderado"),AND(AF23="Media",AH23="Leve"),AND(AF23="Media",AH23="Menor"),AND(AF23="Media",AH23="Moderado"),AND(AF23="Alta",AH23="Leve"),AND(AF23="Alta",AH23="Menor")),"Moderado",IF(OR(AND(AF23="Muy Baja",AH23="Mayor"),AND(AF23="Baja",AH23="Mayor"),AND(AF23="Media",AH23="Mayor"),AND(AF23="Alta",AH23="Moderado"),AND(AF23="Alta",AH23="Mayor"),AND(AF23="Muy Alta",AH23="Leve"),AND(AF23="Muy Alta",AH23="Menor"),AND(AF23="Muy Alta",AH23="Moderado"),AND(AF23="Muy Alta",AH23="Mayor")),"Alto",IF(OR(AND(AF23="Muy Baja",AH23="Catastrófico"),AND(AF23="Baja",AH23="Catastrófico"),AND(AF23="Media",AH23="Catastrófico"),AND(AF23="Alta",AH23="Catastrófico"),AND(AF23="Muy Alta",AH23="Catastrófico")),"Extremo","")))),"")
Q24: =IF(NOT(ISERROR(MATCH(P24,_xlfn.ANCHORARRAY(E35),0))),O37&"Por favor no seleccionar los criterios de impacto",P24) -> 0 | U24: 4 | X24: =IF(OR(Y24="Preventivo",Y24="Detectivo"),"Probabilidad",IF(Y24="Correctivo","Impacto","")) | AA24: =IF(AND(Y24="Preventivo",Z24="Automático"),"50%",IF(AND(Y24="Preventivo",Z24="Manual"),"40%",IF(AND(Y24="Detectivo",Z24="Automático"),"40%",IF(AND(Y24="Detectivo",Z24="Manual"),"30%",IF(AND(Y24="Correctivo",Z24="Automático"),"35%",IF(AND(Y24="Correctivo",Z24="Manual"),"25%","")))))) | AE24: =IFERROR(IF(AND(X23="Probabilidad",X24="Probabilidad"),(AG23-(+AG23*AA24)),IF(AND(X23="Impacto",X24="Probabilidad"),(AG22-(+AG22*AA24)),IF(X24="Impacto",AG23,""))),"") | AF24: =IFERROR(IF(AE24="","",IF(AE24<=0.2,"Muy Baja",IF(AE24<=0.4,"Baja",IF(AE24<=0.6,"Media",IF(AE24<=0.8,"Alta","Muy Alta"))))),"") | AG24: =+AE24 | AH24: =IFERROR(IF(AI24="","",IF(AI24<=0.2,"Leve",IF(AI24<=0.4,"Menor",IF(AI24<=0.6,"Moderado",IF(AI24<=0.8,"Mayor","Catastrófico"))))),"") | AI24: =IFERROR(IF(AND(X23="Impacto",X24="Impacto"),(AI23-(+AI23*AA24)),IF(AND(X23="Probabilidad",X24="Impacto"),(AI22-(+AI22*AA24)),IF(X24="Probabilidad",AI23,""))),"") | AJ24: =IFERROR(IF(OR(AND(AF24="Muy Baja",AH24="Leve"),AND(AF24="Muy Baja",AH24="Menor"),AND(AF24="Baja",AH24="Leve")),"Bajo",IF(OR(AND(AF24="Muy baja",AH24="Moderado"),AND(AF24="Baja",AH24="Menor"),AND(AF24="Baja",AH24="Moderado"),AND(AF24="Media",AH24="Leve"),AND(AF24="Media",AH24="Menor"),AND(AF24="Media",AH24="Moderado"),AND(AF24="Alta",AH24="Leve"),AND(AF24="Alta",AH24="Menor")),"Moderado",IF(OR(AND(AF24="Muy Baja",AH24="Mayor"),AND(AF24="Baja",AH24="Mayor"),AND(AF24="Media",AH24="Mayor"),AND(AF24="Alta",AH24="Moderado"),AND(AF24="Alta",AH24="Mayor"),AND(AF24="Muy Alta",AH24="Leve"),AND(AF24="Muy Alta",AH24="Menor"),AND(AF24="Muy Alta",AH24="Moderado"),AND(AF24="Muy Alta",AH24="Mayor")),"Alto",IF(OR(AND(AF24="Muy Baja",AH24="Catastrófico"),AND(AF24="Baja",AH24="Catastrófico"),AND(AF24="Media",AH24="Catastrófico"),AND(AF24="Alta",AH24="Catastrófico"),AND(AF24="Muy Alta",AH24="Catastrófico")),"Extremo","")))),"")
Q25: =IF(NOT(ISERROR(MATCH(P25,_xlfn.ANCHORARRAY(E36),0))),O38&"Por favor no seleccionar los criterios de impacto",P25) -> 0 | U25: 5 | X25: =IF(OR(Y25="Preventivo",Y25="Detectivo"),"Probabilidad",IF(Y25="Correctivo","Impacto","")) | AA25: =IF(AND(Y25="Preventivo",Z25="Automático"),"50%",IF(AND(Y25="Preventivo",Z25="Manual"),"40%",IF(AND(Y25="Detectivo",Z25="Automático"),"40%",IF(AND(Y25="Detectivo",Z25="Manual"),"30%",IF(AND(Y25="Correctivo",Z25="Automático"),"35%",IF(AND(Y25="Correctivo",Z25="Manual"),"25%","")))))) | AE25: =IFERROR(IF(AND(X24="Probabilidad",X25="Probabilidad"),(AG24-(+AG24*AA25)),IF(AND(X24="Impacto",X25="Probabilidad"),(AG23-(+AG23*AA25)),IF(X25="Impacto",AG24,""))),"") | AF25: =IFERROR(IF(AE25="","",IF(AE25<=0.2,"Muy Baja",IF(AE25<=0.4,"Baja",IF(AE25<=0.6,"Media",IF(AE25<=0.8,"Alta","Muy Alta"))))),"") | AG25: =+AE25 | AH25: =IFERROR(IF(AI25="","",IF(AI25<=0.2,"Leve",IF(AI25<=0.4,"Menor",IF(AI25<=0.6,"Moderado",IF(AI25<=0.8,"Mayor","Catastrófico"))))),"") | AI25: =IFERROR(IF(AND(X24="Impacto",X25="Impacto"),(AI24-(+AI24*AA25)),IF(AND(X24="Probabilidad",X25="Impacto"),(AI23-(+AI23*AA25)),IF(X25="Probabilidad",AI24,""))),"") | AJ25: =IFERROR(IF(OR(AND(AF25="Muy Baja",AH25="Leve"),AND(AF25="Muy Baja",AH25="Menor"),AND(AF25="Baja",AH25="Leve")),"Bajo",IF(OR(AND(AF25="Muy baja",AH25="Moderado"),AND(AF25="Baja",AH25="Menor"),AND(AF25="Baja",AH25="Moderado"),AND(AF25="Media",AH25="Leve"),AND(AF25="Media",AH25="Menor"),AND(AF25="Media",AH25="Moderado"),AND(AF25="Alta",AH25="Leve"),AND(AF25="Alta",AH25="Menor")),"Moderado",IF(OR(AND(AF25="Muy Baja",AH25="Mayor"),AND(AF25="Baja",AH25="Mayor"),AND(AF25="Media",AH25="Mayor"),AND(AF25="Alta",AH25="Moderado"),AND(AF25="Alta",AH25="Mayor"),AND(AF25="Muy Alta",AH25="Leve"),AND(AF25="Muy Alta",AH25="Menor"),AND(AF25="Muy Alta",AH25="Moderado"),AND(AF25="Muy Alta",AH25="Mayor")),"Alto",IF(OR(AND(AF25="Muy Baja",AH25="Catastrófico"),AND(AF25="Baja",AH25="Catastrófico"),AND(AF25="Media",AH25="Catastrófico"),AND(AF25="Alta",AH25="Catastrófico"),AND(AF25="Muy Alta",AH25="Catastrófico")),"Extremo","")))),"")
Q26: =IF(NOT(ISERROR(MATCH(P26,_xlfn.ANCHORARRAY(E37),0))),O39&"Por favor no seleccionar los criterios de impacto",P26) -> 0 | U26: 6 | X26: =IF(OR(Y26="Preventivo",Y26="Detectivo"),"Probabilidad",IF(Y26="Correctivo","Impacto","")) | AA26: =IF(AND(Y26="Preventivo",Z26="Automático"),"50%",IF(AND(Y26="Preventivo",Z26="Manual"),"40%",IF(AND(Y26="Detectivo",Z26="Automático"),"40%",IF(AND(Y26="Detectivo",Z26="Manual"),"30%",IF(AND(Y26="Correctivo",Z26="Automático"),"35%",IF(AND(Y26="Correctivo",Z26="Manual"),"25%","")))))) | AE26: =IFERROR(IF(AND(X25="Probabilidad",X26="Probabilidad"),(AG25-(+AG25*AA26)),IF(AND(X25="Impacto",X26="Probabilidad"),(AG24-(+AG24*AA26)),IF(X26="Impacto",AG25,""))),"") | AF26: =IFERROR(IF(AE26="","",IF(AE26<=0.2,"Muy Baja",IF(AE26<=0.4,"Baja",IF(AE26<=0.6,"Media",IF(AE26<=0.8,"Alta","Muy Alta"))))),"") | AG26: =+AE26 | AH26: =IFERROR(IF(AI26="","",IF(AI26<=0.2,"Leve",IF(AI26<=0.4,"Menor",IF(AI26<=0.6,"Moderado",IF(AI26<=0.8,"Mayor","Catastrófico"))))),"") | AI26: =IFERROR(IF(AND(X25="Impacto",X26="Impacto"),(AI25-(+AI25*AA26)),IF(AND(X25="Probabilidad",X26="Impacto"),(AI24-(+AI24*AA26)),IF(X26="Probabilidad",AI25,""))),"") | AJ26: =IFERROR(IF(OR(AND(AF26="Muy Baja",AH26="Leve"),AND(AF26="Muy Baja",AH26="Menor"),AND(AF26="Baja",AH26="Leve")),"Bajo",IF(OR(AND(AF26="Muy baja",AH26="Moderado"),AND(AF26="Baja",AH26="Menor"),AND(AF26="Baja",AH26="Moderado"),AND(AF26="Media",AH26="Leve"),AND(AF26="Media",AH26="Menor"),AND(AF26="Media",AH26="Moderado"),AND(AF26="Alta",AH26="Leve"),AND(AF26="Alta",AH26="Menor")),"Moderado",IF(OR(AND(AF26="Muy Baja",AH26="Mayor"),AND(AF26="Baja",AH26="Mayor"),AND(AF26="Media",AH26="Mayor"),AND(AF26="Alta",AH26="Moderado"),AND(AF26="Alta",AH26="Mayor"),AND(AF26="Muy Alta",AH26="Leve"),AND(AF26="Muy Alta",AH26="Menor"),AND(AF26="Muy Alta",AH26="Moderado"),AND(AF26="Muy Alta",AH26="Mayor")),"Alto",IF(OR(AND(AF26="Muy Baja",AH26="Catastrófico"),AND(AF26="Baja",AH26="Catastrófico"),AND(AF26="Media",AH26="Catastrófico"),AND(AF26="Alta",AH26="Catastrófico"),AND(AF26="Muy Alta",AH26="Catastrófico")),"Extremo","")))),"")
N27: =IF(M27<=0,"",IF(M27<=2,"Muy Baja",IF(M27<=24,"Baja",IF(M27<=500,"Media",IF(M27<=5000,"Alta","Muy Alta"))))) | O27: =IF(N27="","",IF(N27="Muy Baja",0.2,IF(N27="Baja",0.4,IF(N27="Media",0.6,IF(N27="Alta",0.8,IF(N27="Muy Alta",1,)))))) | Q27: =IF(NOT(ISERROR(MATCH(P27,'Tabla Impacto'!$B$221:$B$223,0))),'Tabla Impacto'!$F$223&"Por favor no seleccionar los criterios de impacto(Afectación Económica o presupuestal y Pérdida Reputacional)",P27) -> 0 | R27: =IF(OR(Q27='Tabla Impacto'!$C$11,Q27='Tabla Impacto'!$D$11),"Leve",IF(OR(Q27='Tabla Impacto'!$C$12,Q27='Tabla Impacto'!$D$12),"Menor",IF(OR(Q27='Tabla Impacto'!$C$13,Q27='Tabla Impacto'!$D$13),"Moderado",IF(OR(Q27='Tabla Impacto'!$C$14,Q27='Tabla Impacto'!$D$14),"Mayor",IF(OR(Q27='Tabla Impacto'!$C$15,Q27='Tabla Impacto'!$D$15),"Catastrófico",""))))) | S27: =IF(R27="","",IF(R27="Leve",0.2,IF(R27="Menor",0.4,IF(R27="Moderado",0.6,IF(R27="Mayor",0.8,IF(R27="Catastrófico",1,)))))) | T27: =IF(OR(AND(N27="Muy Baja",R27="Leve"),AND(N27="Muy Baja",R27="Menor"),AND(N27="Baja",R27="Leve")),"Bajo",IF(OR(AND(N27="Muy baja",R27="Moderado"),AND(N27="Baja",R27="Menor"),AND(N27="Baja",R27="Moderado"),AND(N27="Media",R27="Leve"),AND(N27="Media",R27="Menor"),AND(N27="Media",R27="Moderado"),AND(N27="Alta",R27="Leve"),AND(N27="Alta",R27="Menor")),"Moderado",IF(OR(AND(N27="Muy Baja",R27="Mayor"),AND(N27="Baja",R27="Mayor"),AND(N27="Media",R27="Mayor"),AND(N27="Alta",R27="Moderado"),AND(N27="Alta",R27="Mayor"),AND(N27="Muy Alta",R27="Leve"),AND(N27="Muy Alta",R27="Menor"),AND(N27="Muy Alta",R27="Moderado"),AND(N27="Muy Alta",R27="Mayor")),"Alto",IF(OR(AND(N27="Muy Baja",R27="Catastrófico"),AND(N27="Baja",R27="Catastrófico"),AND(N27="Media",R27="Catastrófico"),AND(N27="Alta",R27="Catastrófico"),AND(N27="Muy Alta",R27="Catastrófico")),"Extremo","")))) | U27: 19 | X27: =IF(OR(Y27="Preventivo",Y27="Detectivo"),"Probabilidad",IF(Y27="Correctivo","Impacto","")) | AA27: =IF(AND(Y27="Preventivo",Z27="Automático"),"50%",IF(AND(Y27="Preventivo",Z27="Manual"),"40%",IF(AND(Y27="Detectivo",Z27="Automático"),"40%",IF(AND(Y27="Detectivo",Z27="Manual"),"30%",IF(AND(Y27="Correctivo",Z27="Automático"),"35%",IF(AND(Y27="Correctivo",Z27="Manual"),"25%","")))))) | AE27: =IFERROR(IF(X27="Probabilidad",(O27-(+O27*AA27)),IF(X27="Impacto",O27,"")),"") | AF27: =IFERROR(IF(AE27="","",IF(AE27<=0.2,"Muy Baja",IF(AE27<=0.4,"Baja",IF(AE27<=0.6,"Media",IF(AE27<=0.8,"Alta","Muy Alta"))))),"") | AG27: =+AE27 | AH27: =IFERROR(IF(AI27="","",IF(AI27<=0.2,"Leve",IF(AI27<=0.4,"Menor",IF(AI27<=0.6,"Moderado",IF(AI27<=0.8,"Mayor","Catastrófico"))))),"") | AI27: =IFERROR(IF(X27="Impacto",(S27-(+S27*AA27)),IF(X27="Probabilidad",S27,"")),"") | AJ27: =IFERROR(IF(OR(AND(AF27="Muy Baja",AH27="Leve"),AND(AF27="Muy Baja",AH27="Menor"),AND(AF27="Baja",AH27="Leve")),"Bajo",IF(OR(AND(AF27="Muy baja",AH27="Moderado"),AND(AF27="Baja",AH27="Menor"),AND(AF27="Baja",AH27="Moderado"),AND(AF27="Media",AH27="Leve"),AND(AF27="Media",AH27="Menor"),AND(AF27="Media",AH27="Moderado"),AND(AF27="Alta",AH27="Leve"),AND(AF27="Alta",AH27="Menor")),"Moderado",IF(OR(AND(AF27="Muy Baja",AH27="Mayor"),AND(AF27="Baja",AH27="Mayor"),AND(AF27="Media",AH27="Mayor"),AND(AF27="Alta",AH27="Moderado"),AND(AF27="Alta",AH27="Mayor"),AND(AF27="Muy Alta",AH27="Leve"),AND(AF27="Muy Alta",AH27="Menor"),AND(AF27="Muy Alta",AH27="Moderado"),AND(AF27="Muy Alta",AH27="Mayor")),"Alto",IF(OR(AND(AF27="Muy Baja",AH27="Catastrófico"),AND(AF27="Baja",AH27="Catastrófico"),AND(AF27="Media",AH27="Catastrófico"),AND(AF27="Alta",AH27="Catastrófico"),AND(AF27="Muy Alta",AH27="Catastrófico")),"Extremo","")))),"")
Q28: =IF(NOT(ISERROR(MATCH(P28,_xlfn.ANCHORARRAY(E39),0))),O41&"Por favor no seleccionar los criterios de impacto",P28) -> 0 | U28: 20 | X28: =IF(OR(Y28="Preventivo",Y28="Detectivo"),"Probabilidad",IF(Y28="Correctivo","Impacto","")) | AA28: =IF(AND(Y28="Preventivo",Z28="Automático"),"50%",IF(AND(Y28="Preventivo",Z28="Manual"),"40%",IF(AND(Y28="Detectivo",Z28="Automático"),"40%",IF(AND(Y28="Detectivo",Z28="Manual"),"30%",IF(AND(Y28="Correctivo",Z28="Automático"),"35%",IF(AND(Y28="Correctivo",Z28="Manual"),"25%","")))))) | AE28: =IFERROR(IF(AND(X27="Probabilidad",X28="Probabilidad"),(AG27-(+AG27*AA28)),IF(X28="Probabilidad",(O27-(+O27*AA28)),IF(X28="Impacto",AG27,""))),"") | AF28: =IFERROR(IF(AE28="","",IF(AE28<=0.2,"Muy Baja",IF(AE28<=0.4,"Baja",IF(AE28<=0.6,"Media",IF(AE28<=0.8,"Alta","Muy Alta"))))),"") | AG28: =+AE28 | AH28: =IFERROR(IF(AI28="","",IF(AI28<=0.2,"Leve",IF(AI28<=0.4,"Menor",IF(AI28<=0.6,"Moderado",IF(AI28<=0.8,"Mayor","Catastrófico"))))),"") | AI28: =IFERROR(IF(AND(X27="Impacto",X28="Impacto"),(AI27-(+AI27*AA28)),IF(X28="Impacto",(S27-(+S27*AA28)),IF(X28="Probabilidad",AI27,""))),"") | AJ28: =IFERROR(IF(OR(AND(AF28="Muy Baja",AH28="Leve"),AND(AF28="Muy Baja",AH28="Menor"),AND(AF28="Baja",AH28="Leve")),"Bajo",IF(OR(AND(AF28="Muy baja",AH28="Moderado"),AND(AF28="Baja",AH28="Menor"),AND(AF28="Baja",AH28="Moderado"),AND(AF28="Media",AH28="Leve"),AND(AF28="Media",AH28="Menor"),AND(AF28="Media",AH28="Moderado"),AND(AF28="Alta",AH28="Leve"),AND(AF28="Alta",AH28="Menor")),"Moderado",IF(OR(AND(AF28="Muy Baja",AH28="Mayor"),AND(AF28="Baja",AH28="Mayor"),AND(AF28="Media",AH28="Mayor"),AND(AF28="Alta",AH28="Moderado"),AND(AF28="Alta",AH28="Mayor"),AND(AF28="Muy Alta",AH28="Leve"),AND(AF28="Muy Alta",AH28="Menor"),AND(AF28="Muy Alta",AH28="Moderado"),AND(AF28="Muy Alta",AH28="Mayor")),"Alto",IF(OR(AND(AF28="Muy Baja",AH28="Catastrófico"),AND(AF28="Baja",AH28="Catastrófico"),AND(AF28="Media",AH28="Catastrófico"),AND(AF28="Alta",AH28="Catastrófico"),AND(AF28="Muy Alta",AH28="Catastrófico")),"Extremo","")))),"")
Q29: =IF(NOT(ISERROR(MATCH(P29,_xlfn.ANCHORARRAY(E40),0))),O42&"Por favor no seleccionar los criterios de impacto",P29) -> 0 | U29: 21 | X29: =IF(OR(Y29="Preventivo",Y29="Detectivo"),"Probabilidad",IF(Y29="Correctivo","Impacto","")) | AA29: =IF(AND(Y29="Preventivo",Z29="Automático"),"50%",IF(AND(Y29="Preventivo",Z29="Manual"),"40%",IF(AND(Y29="Detectivo",Z29="Automático"),"40%",IF(AND(Y29="Detectivo",Z29="Manual"),"30%",IF(AND(Y29="Correctivo",Z29="Automático"),"35%",IF(AND(Y29="Correctivo",Z29="Manual"),"25%","")))))) | AE29: =IFERROR(IF(AND(X28="Probabilidad",X29="Probabilidad"),(AG28-(+AG28*AA29)),IF(AND(X28="Impacto",X29="Probabilidad"),(AG27-(+AG27*AA29)),IF(X29="Impacto",AG28,""))),"") | AF29: =IFERROR(IF(AE29="","",IF(AE29<=0.2,"Muy Baja",IF(AE29<=0.4,"Baja",IF(AE29<=0.6,"Media",IF(AE29<=0.8,"Alta","Muy Alta"))))),"") | AG29: =+AE29 | AH29: =IFERROR(IF(AI29="","",IF(AI29<=0.2,"Leve",IF(AI29<=0.4,"Menor",IF(AI29<=0.6,"Moderado",IF(AI29<=0.8,"Mayor","Catastrófico"))))),"") | AI29: =IFERROR(IF(AND(X28="Impacto",X29="Impacto"),(AI28-(+AI28*AA29)),IF(AND(X28="Probabilidad",X29="Impacto"),(AI27-(+AI27*AA29)),IF(X29="Probabilidad",AI28,""))),"") | AJ29: =IFERROR(IF(OR(AND(AF29="Muy Baja",AH29="Leve"),AND(AF29="Muy Baja",AH29="Menor"),AND(AF29="Baja",AH29="Leve")),"Bajo",IF(OR(AND(AF29="Muy baja",AH29="Moderado"),AND(AF29="Baja",AH29="Menor"),AND(AF29="Baja",AH29="Moderado"),AND(AF29="Media",AH29="Leve"),AND(AF29="Media",AH29="Menor"),AND(AF29="Media",AH29="Moderado"),AND(AF29="Alta",AH29="Leve"),AND(AF29="Alta",AH29="Menor")),"Moderado",IF(OR(AND(AF29="Muy Baja",AH29="Mayor"),AND(AF29="Baja",AH29="Mayor"),AND(AF29="Media",AH29="Mayor"),AND(AF29="Alta",AH29="Moderado"),AND(AF29="Alta",AH29="Mayor"),AND(AF29="Muy Alta",AH29="Leve"),AND(AF29="Muy Alta",AH29="Menor"),AND(AF29="Muy Alta",AH29="Moderado"),AND(AF29="Muy Alta",AH29="Mayor")),"Alto",IF(OR(AND(AF29="Muy Baja",AH29="Catastrófico"),AND(AF29="Baja",AH29="Catastrófico"),AND(AF29="Media",AH29="Catastrófico"),AND(AF29="Alta",AH29="Catastrófico"),AND(AF29="Muy Alta",AH29="Catastrófico")),"Extremo","")))),"")
Q30: =IF(NOT(ISERROR(MATCH(P30,_xlfn.ANCHORARRAY(E41),0))),O43&"Por favor no seleccionar los criterios de impacto",P30) -> 0 | U30: 22 | X30: =IF(OR(Y30="Preventivo",Y30="Detectivo"),"Probabilidad",IF(Y30="Correctivo","Impacto","")) | AA30: =IF(AND(Y30="Preventivo",Z30="Automático"),"50%",IF(AND(Y30="Preventivo",Z30="Manual"),"40%",IF(AND(Y30="Detectivo",Z30="Automático"),"40%",IF(AND(Y30="Detectivo",Z30="Manual"),"30%",IF(AND(Y30="Correctivo",Z30="Automático"),"35%",IF(AND(Y30="Correctivo",Z30="Manual"),"25%","")))))) | AE30: =IFERROR(IF(AND(X29="Probabilidad",X30="Probabilidad"),(AG29-(+AG29*AA30)),IF(AND(X29="Impacto",X30="Probabilidad"),(AG28-(+AG28*AA30)),IF(X30="Impacto",AG29,""))),"") | AF30: =IFERROR(IF(AE30="","",IF(AE30<=0.2,"Muy Baja",IF(AE30<=0.4,"Baja",IF(AE30<=0.6,"Media",IF(AE30<=0.8,"Alta","Muy Alta"))))),"") | AG30: =+AE30 | AH30: =IFERROR(IF(AI30="","",IF(AI30<=0.2,"Leve",IF(AI30<=0.4,"Menor",IF(AI30<=0.6,"Moderado",IF(AI30<=0.8,"Mayor","Catastrófico"))))),"") | AI30: =IFERROR(IF(AND(X29="Impacto",X30="Impacto"),(AI29-(+AI29*AA30)),IF(AND(X29="Probabilidad",X30="Impacto"),(AI28-(+AI28*AA30)),IF(X30="Probabilidad",AI29,""))),"") | AJ30: =IFERROR(IF(OR(AND(AF30="Muy Baja",AH30="Leve"),AND(AF30="Muy Baja",AH30="Menor"),AND(AF30="Baja",AH30="Leve")),"Bajo",IF(OR(AND(AF30="Muy baja",AH30="Moderado"),AND(AF30="Baja",AH30="Menor"),AND(AF30="Baja",AH30="Moderado"),AND(AF30="Media",AH30="Leve"),AND(AF30="Media",AH30="Menor"),AND(AF30="Media",AH30="Moderado"),AND(AF30="Alta",AH30="Leve"),AND(AF30="Alta",AH30="Menor")),"Moderado",IF(OR(AND(AF30="Muy Baja",AH30="Mayor"),AND(AF30="Baja",AH30="Mayor"),AND(AF30="Media",AH30="Mayor"),AND(AF30="Alta",AH30="Moderado"),AND(AF30="Alta",AH30="Mayor"),AND(AF30="Muy Alta",AH30="Leve"),AND(AF30="Muy Alta",AH30="Menor"),AND(AF30="Muy Alta",AH30="Moderado"),AND(AF30="Muy Alta",AH30="Mayor")),"Alto",IF(OR(AND(AF30="Muy Baja",AH30="Catastrófico"),AND(AF30="Baja",AH30="Catastrófico"),AND(AF30="Media",AH30="Catastrófico"),AND(AF30="Alta",AH30="Catastrófico"),AND(AF30="Muy Alta",AH30="Catastrófico")),"Extremo","")))),"")
